Workbook
Name A: 'LIQUIDACIÓN-GASTOS'!$Y:$Y
Name BORRADOR: ANEXO!$AP$2:$AP$180
Name EXPERIMENTALLINEA2: ANEXO!$AQ$2:$AQ$69
Name NORMATIVA: ANEXO!$AO$2:$AO$101
Name NORMATIVAS: ANEXO!$AO$3:$AO$101
Name PAISES: ANEXO!$A$2:$A$100

Sheet INICIO
M1: V24 | N1: 46288
C7: Este formulario de Excel no suele funcionar en ordenadores Mac.
C8: FORMULARIO | I8: PAGOS A CONFERENCIANTES (Ministerio/Junta)
C11: Debido a que este archivo se encuentra en fase de pruebas y está | I11: Solo se usa para abonar el concepto de “conferencia” a un ponente invitado,
C12: sujeto a actualizaciones continuas, se solicita no guardar ni realizar | I12: junto con algún gasto en concepto de viajes que procediera ser abonado
C13: copias y acceder siempre a la última versión disponible en la web.

Sheet Ayuda
E2: AYUDA DEL FORMULARIO DE LIQUIDACION
B4: El formulario está compuesto por varios cuadros, cada uno con su correspondiente nombre. Para obtener la liquidación de dietas, deberá cumplimentarse en el orden que se indica a continuación
B5: y siguiendo las indicaciones del CUADRO DE AVISO:
B7: 1. DATOS DEL SOLICITANTE.
B8: 2. DATOS DEL PROYECTO / PARA EL PROYECTO.
B9: 3. GASTOS DE LOCOMOCIÓN / INSCRIPCIÓN / OTROS.
B11: La sección correspondiente a las dietas deberá completarse de acuerdo con la naturaleza del desplazamiento realizado.
B13: 4.a. DIETAS EN TERRITORIO NACIONAL O TRÁNSITO PARA LA SALIDA.
B14: 4.b. DIETAS EN EL PRIMER PAÍS EXTRANJERO O ÚNICO.
B15: 4.c. VIAJE EN TRÁNSITO DE REGRESO DIETAS EN TERRITORIO NACIONAL (en su caso).
B16: 4.d. SEGUNDO PAÍS EXTRANJERO (viajes secuenciales a distintos países).
B17: 4.e. TERCER PAÍS EXTRANJERO (viajes secuenciales a distintos países).
B18: 0. CUADRO DE AVISO (De la fila 3 a la 8 del formulario, indica la información pendiente de completar para garantizar la correcta liquidación).
... B57: CUADRO DE DIETAS
B59: MINISTERIO.DECRETO RD 462/2002 | F59: DECRETO 54/1989 JUNTA MADRID | J59: DECRETO 54/1989 JUNTA (Excepto Madrid)
B60: Alojamiento | D60: 65.97 | F60: Alojamiento | H60: 96.41 | J60: Alojamiento | L60: 64.27
B61: Manutención completa | D61: 37.4 | F61: Manutención pernoctando | H61: 41.78 | J61: Manutención pernoctando | L61: 40.82
B62: 1/2 manutención | D62: 18.7 | F62: Manutención sin pernoctar | H62: 26.67 | J62: Manutención sin pernoctar | L62: 26.67
F63: 1/2 manutención | H63: 20.89 | J63: 1/2 manutención | L63: 20.41
B65: Instrucción 3/2021 de la US (Madrid / Barcelona) Para fecha anteriores al 26/06/2025 | G65: Instrucción 3/2021 de la US (Excepto Madrid / Barcelona) Para fecha anteriores al 26/06/2025
B66: Alojamiento | D66: 120 | G66: Alojamiento | I66: 90
B67: Manutención pernoctando | D67: 41.78 | G67: Manutención pernoctando | I67: 40.82
B68: Manutención sin pernoctar | D68: 26.67 | G68: Manutención sin pernoctar | I68: 26.67
B69: 1/2 manutención | D69: 20.89 | G69: 1/2 manutención | I69: 20.41
B73: Instrucción 3/2025 de la US (Madrid / Barcelona) Para fecha posteriores al 26/06/2025 | G73: Instrucción 3/2025 de la US (Excepto Madrid / Barcelona) Para fecha posteriores al 26/06/2025
B74: Alojamiento | D74: 150 | G74: Alojamiento | I74: 130
B75: Manutención pernoctando | D75: 53.34 | G75: Manutención pernoctando | I75: 53.34
B76: Manutención sin pernoctar | D76: 26.67 | G76: Manutención sin pernoctar | I76: 26.67
B77: 1/2 manutención | D77: 23.67 | G77: 1/2 manutención | I77: 23.67
B80: (Artículo 2 Decreto 54/1989 y sus modificaciones ). Los importes correspondientes a manutención completa y a media manutención en territorio extranjero serán los establecidos para dichos conceptos en territorio nacional Madrid. Esto se aplica en los siguientes decretos/instrucciones: Decreto 54/1989, Instrucció 3/2021 de la US, Instrucción 3/2025 de la US. Artículo 13.4.C de las instrucciones 3/2025 de gerencia de la US de 26/06/2025 En el viaje de regreso, cuando se realiza en un solo día, si la salida del país extranjero se produce despues de las 15:00 horas, solo dará lugar al derecho de percepción de media manutención del importe del país extranjero correspondiente, independientemente de la hora en que se produzca la llegada a su domicilio.
B90: Nevo decreto de la Junta Tipos de manutención
B91: Manutención pernoctando (para varios días)
B92: Manutención sin pernoctar ( para un día)
B93: 1/2 Manutención ( sólo una comida, almerzo o cena)
B96: Un día de viaje
B97: Salida | E97: Regreso | H97: manutención que corresponde
B99: antes de las 15:00 | E99: antes de las 21:00 | H99: 1/2 manutención (almerzo fuera y cena en casa)
B101: después de las 15:00 | E101: después de las 21:00 y antes de las 24:00 | H101: 1/2 manutención (almerzo en casa y cena fuera)
B104: salida antes de las 15:00 | E104: despues de las 21:00 y antes de las 24:00 | H104: Manutención sin pernoctar (almerzo y cena fuera)
B108: VARIOS DIAS DE VIAJE
...

Sheet FORMULARIO
I1: =INICIO!N1 -> 46288 | J1: =INICIO!M1 -> V24
B2: FORMULARIO DE LIQUIDACIÓN (En un MAC no suele funcionar) | H2: AYUDA DEL FORMULARIO | BB2: ACCEDA A LA HOJA “LIQUIDACIÓN DE GASTOS”, GUÁRDELA EN FORMATO PDF Y FÍRMELA PARA SU PRESENTACIÓN.
A3: 0. CUADRO DE AVISO DE ERRORES | B3: =IF(D9="","Escriba la fecha de la solicitud en D9 y siga las instrucciones",IF(AND(OR(E11="",E11="Elija la Opción ▼"),C16<>"",B10<>""),"Responda si ha solicitado un anticipo en la celda E11",IF(C16="","Escriba su nombre y apellidos en D16",IF(F16="","Escriba el D.N.I. en F16",IF(OR(H16="",H16="Elija la Opción ▼"),"Elija la Nacionalidad",IF(C19="","Escriba la Entidad para la que trabaja en C19",IF(F19="","Escriba La Categoria profesionalen F19",IF(H19="","Escriba el Nº de cuenta bancaria e H19",IF(C24="","Escriba la Orgánica en C24",IF(F24="","Escriba el nº de Proyecto en F24",IF(H24="Elija la Opción ▼","Elija el Tipo de proyecto/CONVOCATORIAS en H24",IF(OR(C27=" Elija la Opción",C27=""),"Elija la Vinculación con el proyectoen C27",IF(F27="","Escriba la Actividad/evento al que asiste en F27",IF(C30="","Escriba la fecha de inicio de todas las actividades en C30",IF(F30="","Escriba la Fecha de fin de las actividades en F30",IF(C32="","Escriba el Itinerario en C32",IF(F32="","Escriba el Luegar del desplazamiento en F32",IF(AND(C37<>"",F37=""),"Escriba la Matrícula del vehículo particular",IF(AND(D39<>0,C39="Elija Opción"),"Escriba el medio de locomoción utilizado en C39",IF(AND(D40<>0,C40="Elija Opción"),"Escriba el medio de locomoción utilizado en C40",IF(AND(D41<>0,C41="Elija Opción"),"Escriba el medio de locomoción utilizado en C41",IF(AND(D42<>0,C42="Elija Opción"),"Escriba el medio de locomoción utilizado en C42",IF(AND(G39<>0,F39="Elija Opción"),"Escriba el medio de locomoción utilizaden F39",IF(AND(G40<>0,F40="Elija Opción"),"Escriba el medio de locomoción utilizado en F40",IF(AND(G41<>0,F41="Elija Opción"),"Escriba el medio de locomoción utilizado en F41",IF(AND(G42<>0,F42="Elija Opción"),"Escriba el medio de locomoción utilizado en F42",IF(AND(C54<>"",F54=""),"Escriba la Hora de inicio del viaje en F54",IF(AND(C54<>"",C57=""),"Escriba la Fecha de fin de la viaje en C57",IF(AND(C54<>"",F57=""),"Escriba la Hora de fin del viaje en F57",IF(AND(C54="",F54<>""),"Escriba la fecha de inicio del viaje en C54",IF(AND(C54<>"",C60=""),"Escriba la Fecha de inicio de la actividad en C54",IF(AND(C54<>"",F60=""),"Escriba la Fecha de fin de la actividad en F60",IF(AND(OR(G54="Elija la Opción ▼",G54=""),G53<>"",C54<>""),"Elija la opción sin son dietas en Madrid en G54",IF(AND(OR(H57="",H57="Elija la Opción ▼"),C54<>""),"Elija si desea renunciar a la manutención en H57",IF(AND(OR(G58="Elija la Opción ▼",G58=""),G57<>"",C57<>"",'LIQUIDACIÓN-GASTOS'!J4='LIQUIDACIÓN-GASTOS'!AF2),"Elija si aporta factura factura de cena en G58",IF(AND(C64<>"",E64=""),"Escriba el Nº de noches de alojamiento en E64",IF(AND(G64<>"",I64=""),"Escriba el Nº de noches de alojamiento en Pagos con Acuerdo Marco en I64",IF(AND(C69<>"",D69=""),"Escriba la Fecha de inicio de la actividad en D69",IF(AND(C69<>"",F69=""),"Escriba la Hora de salida del viaje en F69",IF(AND(C69="",F69<>""),"Escriba la fecha de inicio del viaje en C69",IF(AND(C69<>"",C72=""),"Escriba la Fecha de fin del viaje en C72",IF(AND(C69<>"",H68="ELIJA EL PAÍS ▼"),"Elija el País en H69",IF(AND(C69<>"",D72=""),"Escriba la Fecha de fin de la actividad en D72",IF(AND(C69<>"",F72=""),"Escriba la Hora de fin del viaje en F72",IF(AND(C74<>"",F74=""),"Escriba la hora de salida del pais extranjero",IF(AND(C74<>"",I72=""),"Escriba la fecha de salida del país extranjero en I72",IF(AND(OR(E75="",E75="Elija la Opción ▼"),C73<>"",C69<>"",'LIQUIDACIÓN-GASTOS'!J4='LIQUIDACIÓN-GASTOS'!AF2),"Elija si aporta factura de cena en E75",IF(AND(OR(I75="",I75="Elija la Opción ▼"),C69<>""),"Elija si desea renunciar a toda la manutención del país en I75",IF(AND(C78<>"",F78=""),"Escriba el Nº de noches del alojamiento en F78",IF(AND(G78<>"",I78=""),"Escriba el Nº de noches del alojamiento de pagos a terceros con Acuerdo Marco en I78","")))))))))))))))))))))))))))))))))))))))))))))))))) -> Escriba la fecha de la solicitud en D9 y siga las instrucciones | J3: =IF('LIQUIDACIÓN-GASTOS'!AN80<>0,"Responda si desea renunciar a una parte de la liquidación en la CELDA E10","")
B4: =IF(AND(C113<>"",C119=""),"Escriba la Fecha de inicio de la actividad en C119",IF(AND(C113="",C119<>""),"Escriba la fecha de inicio del viaje en C113",IF(AND(OR(G113="Elija la Opción ▼",G113=""),G112<>"",C113<>""),"Responda si son dietas en Madrid en G113",IF(AND(C113<>"",F113=""),"Escriba la Hora de salida del viaje en F113",IF(AND(C113<>"",C116=""),"Escriba la Fecha de fin del viaje en C116",IF(AND(C113<>"",F119=""),"Escriba la Fecha de fin de la actividad en F119",IF(AND(C113<>"",F116=""),"Escriba la Hora de fin del viaje en F116",IF(AND(C113<>"",E120="Elija la Opción ▼"),"elija si desea renunciar a toda la manutención del país en E120",IF(AND(OR(I117="",I117="Elija la Opción ▼"),C113<>"",H116<>"",'LIQUIDACIÓN-GASTOS'!AF2='LIQUIDACIÓN-GASTOS'!J4),"Elija si aporta factura de cena en I117",IF(AND(C123<>"",E123=""),"Escriba el Nº de noches del alojamiento en E123",IF(AND(G123<>"",I123=""),"Escriba el Nº de noches del alojamiento de pagos a terceros con Acuerdo Marco en I123",IF(AND(H69<>"",H71="",H71="Elija la Opción ▼"),"Responda a la pregunta en H71","")))))))))))) | J4: =IF(AND(OR(E10="Elija la Opción ▼",E10=""),'LIQUIDACIÓN-GASTOS'!AN80<>0),"Responda si desea renunciar a una parte de la liquidación, celda E10") -> FALSE
B5: =IF(AND(C147<>"",H143="ELIJA EL PAÍS ▼"),"Elija el País en H143",IF(AND(OR(H71="",H71="Elija la Opción ▼"),H69<>""),"Responda a la pregunta en H71",IF(AND(C147="",C144<>""),"Escriba la fecha de inicio del viaje en C147",IF(AND(OR(H146="",H146="Elija la Opción ▼"),H144<>""),"Responda a la pregunta en H146",IF(AND(C147<>"",C144=""),"Escriba la Fecha de inicio de la actividad en C144",IF(AND(C147<>"",F147=""),"Escriba la Hora de salida del viaje en F147",IF(AND(C147<>"",C150=""),"Escriba la Fecha de fin del viaje en C150",IF(AND(C147<>"",F144=""),"Escriba la Fecha de fin de la actividad en F144",IF(AND(C147<>"",F150=""),"Escriba la Hora de fin del viaje en F150",IF(AND(OR(F153="Elija la Opción ▼",F153=""),C147<>""),"elija si desea renunciar a toda la manutención del país en F153",IF(AND(OR(F151="",F151="Elija la Opción ▼"),C151<>"",C147<>"",'LIQUIDACIÓN-GASTOS'!J4='LIQUIDACIÓN-GASTOS'!AF2),"Elija si aporta factura de cena",IF(AND(C152<>"",F152=""),"Escriba la hora de salida del país extranjero",IF(AND(C152<>"",I150=""),"Escriba la fecha de salida del país extranjero",IF(AND(C156<>"",F156=""),"Escriba el Nº de noches del alojamiento en F156",IF(AND(G156<>"",I156=""),"Escriba el Nº de noches del alojamiento de pagos a terceros con Acuerdo Marco en I156","")))))))))))))))
B6: =IF(AND(C164<>"",H160="ELIJA EL PAÍS ▼"),"Elija el País en H160",IF(AND(OR(H163="",H163="Elija la Opción ▼"),H161<>""),"Responda a la pregunta en H163",IF(AND(C164="",C161<>""),"Escriba la fecha de inicio del viaje en C164",IF(AND(C164<>"",C161=""),"Escriba la Fecha de inicio de la actividad en C161",IF(AND(C164<>"",F164=""),"Escriba la Hora de salida del viaje en F164",IF(AND(C164<>"",C167=""),"Escriba la Fecha de fin del viaje en C167",IF(AND(C164<>"",F161=""),"Escriba la Fecha de fin de la actividad en F161",IF(AND(C164<>"",F167=""),"Escriba la Hora de fin del viaje en F167",IF(AND(C164<>"",F165="Elija la Opción ▼"),"elija si desea renunciar a toda la manutención del país en F165",IF(AND(C167<>"",C169<>"",I167=""),"Escriba la fecha de salida del país extranjero en I167",IF(AND(C167<>"",C169<>"",F169=""),"Escriba la hora de salida del país extranjero en F169",IF(AND(C173<>"",F173=""),"Escriba el Nº de noches del alojamiento en F173",IF(AND(G173<>"",I173=""),"Escriba el Nº de noches del alojamiento de pagos a terceros con Acuerdo Marco en I173","")))))))))))))
D7: =IF(AND(OR(I60="",I60="Elija la Opción ▼"),I57<>""),"Responda a la pregunta en I60","") | E7: =IF(AND(B3="",B4="",B5="",B6="",D7="",B8="",T19=""),"SU LIQUIDACIÓN NO PRESENTA ERRORES ACCEDA A LA HOJA LIQUIDACIÓN-GASTOS","")
B8: =IF(AND(OR(E10="Elija la Opción ▼",E10=""),'LIQUIDACIÓN-GASTOS'!AL78<>0),"Responda si desea renunciar a una parte de la liquidación, celda E10","") | K8: 36526 | L8: 0.041666667
B9: Fecha de la solicitud | F9: =T19 | K9: 402133 | L9: 1.0409722
B10: ¿Desea renunciar a una parte? | E10: Elija la Opción ▼ | F10: Renuncie por conceptos cuando salga el importe | I10: =IF(I11=0,"","Importe de su liquidación ")
B11: ¿Para este viaje ha solicitado un anticipo? | E11: Elija la Opción ▼ | F11: Haga clica para ir a la liquidación | I11: ='LIQUIDACIÓN-GASTOS'!AL78 -> 0
E12: ='LIQUIDACIÓN-GASTOS'!AF9
C13: 1. DATOS DEL SOLICITANTE | T13: =IF(FORMULARIO!H24="Elija la Opción ▼",_xlfn._LONGTEXT("Seleccione desde el menú desplegable la convocatoria que corresponda a su proyecto. Si el proyecto está financiado por el Ministerio, pero no aparece entre los tipos disponibles, seleccione 'Ministerio' como opción. Para los proyectos PPIT-FEDER, seleccio","ne Normativa US. Para los proyectos EUROPEOS elija las normativas de la US. "),"") -> Seleccione desde el menú desplegable la convocatoria que corresponda a su proyecto. Si el proyecto está financiado por el Ministerio, pero no aparece entre los tipos disponibles, seleccione 'Ministerio' como opción. Para los proyectos PPIT-FEDER, seleccione Normativa US. Para los proyectos EUROPEOS elija las normativas de la US.
L14: Elija la Opción ▼
C15: Nombre y Apellidos | F15: D.N.I | H15: NACIONALIDAD | L15: ESPAÑOLA
H16: Elija la Opción ▼ | L16: EXTRANJERA (SIN RESIDENCIA EN ESPAÑA)
C18: Entidad para la que trabaja | F18: Categoría profesional | H18: Nº de cuenta bancaria | W18: =IF(AND($W$19=$V23,$X$19<>$U23),"La orgánica indicada no opera con el proyecto seleccionado","")
T19: =IF(OR(T23<>"",T24<>"",T25<>"",T26<>"",T27<>"",T28<>"",T29<>"",T30<>"",T31<>"",T32<>"",T33<>"",T34<>"",T35<>"",T34<>"",T34<>"",T35<>"",T36<>"",T36<>"",T37<>"",T38<>"",T39<>"",T40<>"",T41<>"",T42<>"",T43<>"",T44<>"",T45<>"",T46<>"",T47<>"",T48<>"",T49<>"",T50<>"",T51<>"",T52<>"",T53<>""),"La orgánica indicada no opera con la convocatoria elegida","") | W19: =H24 -> Elija la Opción ▼ | X19: =MID(C24,7,2) | Y19: =IF(OR(AND(W19<>V32),X19<>"21","22","24","26","50","51","54","56","58","85","87"),"La orgánica indicada en la celda C24, no opera con el proyecto seleccionado en la celda H24","") -> La orgánica indicada en la celda C24, no opera con el proyecto seleccionado en la celda H24
V20: =IFERROR(IF(G54="SÍ",VLOOKUP(H24,V23:X53,3,0),VLOOKUP(H24,V23:X53,2,0)),"Elija la Opción ▼") -> Elija la Opción ▼ | X20: para la salida | Y20: =G54 -> Elija la Opción ▼
C21: 2. DATOS DEL PROYECTO / PARA EL PROYECTO | V21: =IFERROR(IF(G113="SÍ",VLOOKUP(H24,V23:X50,3,0),VLOOKUP(H24,V23:X50,2,0)),"") | X21: para el regreso | Y21: =G113 -> Elija la Opción ▼ | Z21: =IF(AND(G113="SÍ",#REF!>1),VLOOKUP(H24,V23:X47,3,0)) -> #REF! | AA21: =IF(G113="SÍ",VLOOKUP(H24,V23:X47,3,0),VLOOKUP(H24,V23:X47,2,0)) -> #N/A
J22: =IF(H24="Elija la Opción ▼","","Los importes de las dietas correspondientes a la convocatoria que usted ha seleccionado se establecen conforme a lo dispuesto en el siguiente decreto/normativa.") | V22: Elija la Opción ▼ | X22: Elija la Opción ▼ | Z22: =IF(AND(G113="SÍ",#REF!>1),VLOOKUP(H24,V23:X47,3,0),"") -> #REF! | AF22: Elija la Opción ▼
C23: Orgánica (escriba sin espacio y sin puntos) | F23: Proyecto | H23: Tipo de proyecto | I23: CONVOCATORIAS | T23: =IF(AND($W$19=$V23,$X$19<>"37"),"La orgánica indicada no opera con el proyecto seleccionado","") | U23: 37 | V23: ATRAE 2023 | W23: ATRAE 2023 (Excepto Madrid/Barcelona) | X23: ATRAE 2023 (Madrid/Barcelona) | AB23: ATRAE 2023 (Excepto Madrid/Barcelona) | AF23: ATRAE 2023
H24: Elija la Opción ▼ | T24: =IF(AND($W$19=$V24,$X$19<>"37"),"La orgánica indicada no opera con el proyecto seleccionado","") | U24: 37 | V24: ATRAE 2024 | W24: ATRAE 2024 (Excepto Madrid/Barcelona) | X24: ATRAE 2023 (Madrid/Barcelona) | AB24: ATRAE 2023 (Madrid/Barcelona) | AF24: ATRAE 2024
T25: =IF(AND($W$19=$V25,$X$19<>"30"),"La orgánica indicada no opera con el proyecto seleccionado","") | U25: 30 | V25: CEX 2024 | W25: CEX 2024 (Excepto Madrid/Barcelona) | X25: CEX 2024 (Madrid/Barcelona) | AB25: ATRAE 2024 (Excepto Madrid/Barcelona) | AF25: CEX 2024
C26: Vinculación con el proyecto | F26: Actividad/evento al que asiste | T26: =IF(AND($W$19=$V26,$X$19<>"37"),"La orgánica indicada no opera con el proyecto seleccionado","") | U26: 37 | V26: CNS 2023 | W26: CNS 2023 (Excepto Madrid/Barcelona) | X26: CNS 2023 (Madrid/Barcelona) | AB26: ATRAE 2024 (Madrid/Barcelona) | AF26: CNS 2022
C27: Elija la Opción | J27: ='LIQUIDACIÓN-GASTOS'!AF2 | T27: =IF(AND($W$19=$V27,$X$19<>"37"),"La orgánica indicada no opera con el proyecto seleccionado","") | U27: 37 | V27: CNS 2024 | W27: CNS 2024 (Excepto Madrid/Barcelona) | X27: CNS 2024 (Madrid/Barcelona) | AB27: CEX 2024 (Excepto Madrid/Barcelona) | AF27: CNS 2023
H28: =T13 -> Seleccione desde el menú desplegable la convocatoria que corresponda a su proyecto. Si el proyecto está financiado por el Ministerio, pero no aparece entre los tipos disponibles, seleccione 'Ministerio' como opción. Para los proyectos PPIT-FEDER, seleccione Normativa US. Para los proyectos EUROPEOS elija las normativas de la US. | T28: =IF(AND($W$19=$V28,$X$19<>"35"),"La orgánica indicada no opera con el proyecto seleccionado","") | U28: 35 | V28: CPP 2023 | W28: CPP 2023 (Excepto Madrid/Barcelona) | X28: CPP 2023 (Madrid/Barcelona) | AB28: CEX 2024 (Madrid/Barcelona) | AF28: CNS 2024
C29: Fecha de inicio de todas las actividades | F29: Fin de las actividades | T29: =IF(AND($W$19=$V29,$X$19<>"35"),"La orgánica indicada no opera con el proyecto seleccionado","") | U29: 35 | V29: CPP 2024 | W29: CPP 2024 (Excepto Madrid/Barcelona) | X29: CPP 2024 (Madrid/Barcelona) | AB29: CNS 2024 (Excepto Madrid/Barcelona) | AF29: CPP 2023
T30: =IF(AND($W$19=$V30,$X$19<>"30"),"La orgánica indicada no opera con el proyecto seleccionado","") | U30: 30 | V30: EUR 2024 | W30: EUR 2024 (Excepto Madrid/Barcelona) | X30: EUR 2024 (Madrid/Barcelona) | AB30: CNS 2024 (Madrid/Barcelona) | AF30: CPP 2024
C31: Itinerario | F31: Lugar | T31: =IF(AND($W$19=$V31,$X$19<>"36"),"La orgánica indicada no opera con el proyecto seleccionado","") | U31: 36 | V31: JUAN DE LA CIERVA 2023 | W31: JUAN DE LA CIERVA 2023 (Excepto Madrid/Barcelona) | X31: JUAN DE LA CIERVA 2023 (Madrid/Barcelona) | AB31: CNS 2023 (Excepto Madrid/Barcelona) | AF31: DGP-PIDI-2024
T32: =IF(AND($W$19=$V32,$X$19<>"36"),"La orgánica indicada no opera con el proyecto seleccionado","") | U32: 36 | V32: JUAN DE LA CIERVA 2024 | W32: JUAN DE LA CIERVA 2024 (Excepto Madrid/Barcelona) | X32: JUAN DE LA CIERVA 2024 (Madrid/Barcelona) | AB32: CNS 2023 (Madrid/Barcelona) | AF32: EUR 2024
R33: =IF(AND(X19="21",V33=W19),"La orgánica indicada no opera con el proyecto seleccionado",IF(AND(X19="22",V33=W19),"La orgánica indicada no opera con el proyecto seleccionado",IF(AND(X19="23",V33=W19),"La orgánica indicada no opera con el proyecto seleccionado",IF(AND(X19="24",V33=W19),"La orgánica indicada no opera con el proyecto seleccionado",IF(AND(X19="26",V33=W19),"La orgánica indicada no opera con el proyecto seleccionado",IF(AND(X19="50",V33=W19),"La orgánica indicada no opera con el proyecto seleccionado",IF(AND(X19="51",V33=W19),"La orgánica indicada no opera con el proyecto seleccionado",IF(AND(X19="54",V33=W19),"La orgánica indicada no opera con el proyecto seleccionado",IF(AND(X19="56",V33=W19),"La orgánica indicada no opera con el proyecto seleccionado",IF(AND(X19="58",V33=W19),"La orgánica indicada no opera con el proyecto seleccionado",IF(AND(X19="85",V33=W19),"La orgánica indicada no opera con el proyecto seleccionado",IF(AND(X19="87",V33=W19),"La orgánica indicada no opera con el proyecto seleccionado",IF(AND(X19="71",V33=W19),"La orgánica indicada no opera con el proyecto seleccionado",IF(AND(X19="11",V33=W19),"La orgánica indicada no opera con el proyecto seleccionado","")))))))))))))) | T33: =IF(AND(X19<>"21",X19<>"22",X19<>"24",X19<>"26",X19<>"50",X19<>"51",X19<>"54",X19<>"55",X19<>"56",X19<>"58",X19<>"59",X19<>"85",X19<>"87",X19<>"09",W19=V33),"La orgánica que ha indicado no opera con el proyecto seleccionado","") | U33: 21/22/24/26/51/50/54/59/56/58 | V33: Junta | W33: Junta excepto Madrid | X33: Junta Madrid | AB33: CPP 2023 (Excepto Madrid/Barcelona) | AF33: JUAN DE LA CIERVA 2023
C34: 3. GASTOS DE LOCOMOCIÓN / INSCRIPCIÓN / OTROS | T34: =IF(AND(X19="71",X19="23",X19="21",X19="22",X19="24",X19="11",X19="23",X19="50",X19="51",X19="54",X19="56",X19="58",X19="85",X19="89",W19=V34)," La orgánica indicada no opera con el proyecto seleccionado","") | U34: 30 | V34: Ministerio | W34: Ministerio | X34: Ministerio | AB34: CPP 2024 (Madrid/Barcelona) | AF34: JUAN DE LA CIERVA 2024
T35: =IF(AND(X19<>"23",X19<>"71",X19<>"11",X19<>"59",X19<>"00",X19<>"02",X19<>"09", X19<>"08",X19<>"85",X19<>"39",W19=V35),"La orgánica indicada no opera con el proyecto seleccionado","") | U35: 23/71/11 | V35: Normativa US | W35: Normativa US (Excepto Madrid/Barcelona) | X35: Normativa US (Madrid/Barcelona) | AB35: EUR 2024 (Excepto Madrid/Barcelona) | AF35: Junta
C36: Nº de Km: | D36: 0,26 €/Km | F36: Matrícula del Vehículo particular | K36: Elija Opción | M36: Elija la Opción | T36: =IF(AND($W$19=$V36,$X$19<>"35"),"La orgánica indicada no opera con el proyecto seleccionado","") | U36: 35 | V36: Para proyectos Cátedras (Ministerio) GRUPO 1 (Catedráticos) | W36: Para proyectos Cátedras (Ministerio) GRUPO 1 (Catedráticos) | X36: Para proyectos Cátedras (Ministerio) GRUPO 1 (Catedráticos) | AB36: EUR 2024 (Madrid/Barcelona) | AF36: Ministerio
K37: Alquiler coche | M37: IP o CoIP del proyecto | T37: =IF(AND($W$19=$V37,$X$19<>"35"),"La orgánica indicada no opera con el proyecto seleccionado","") | U37: 35 | V37: Para proyectos Cátedras (Ministerio) GRUPO 2 (Personal Investigador) | W37: Para proyectos Cátedras (Ministerio) GRUPO 2 (Personal Investigador) | X37: Para proyectos Cátedras (Ministerio) GRUPO 2 (Personal Investigador) | AB37: JUAN DE LA CIERVA 2023 (Excepto Madrid/Barcelona) | AF37: Normativa US
K38: Avión | M38: Equipo de investigación | T38: =IF(AND($W$19=$V38,$X$19<>"36"),"La orgánica indicada no opera con el proyecto seleccionado","") | U38: 36 | V38: PCI 2024 | W38: PCI 2024 (Excepto Madrid/Barcelona) | X38: PCI 2024 (Madrid/Barcelona) | AB38: JUAN DE LA CIERVA 2023 (Madrid/Barcelona) | AF38: Para proyectos Cátedras (Ministerio) GRUPO 1 (Catedráticos)
C39: Elija Opción | D39: 0 | F39: Elija Opción | G39: 0 | K39: Barco | M39: Equipo de trabajo | T39: =IF(AND($W$19=$V39,$X$19<>"36"),"La orgánica indicada no opera con el proyecto seleccionado","") | U39: 36 | V39: PCI 2025 | W39: PCI 2025 (Excepto Madrid/Barcelona) | X39: PCI 2025 (Madrid/Barcelona) | AB39: JUAN DE LA CIERVA 2024 (Excepto Madrid/Barcelona) | AF39: Para proyectos Cátedras (Ministerio) GRUPO 2 (Personal Investigador)
A40: Pago con Acuerdo Marco | C40: Elija Opción | D40: 0 | F40: Elija Opción | G40: 0 | H40: Pago con Acuerdo Marco | K40: Bus | M40: Colaboración puntual | T40: =IF(AND($W$19=$V40,$X$19<>"33"),"La orgánica indicada no opera con el proyecto seleccionado","") | U40: 33 | V40: PDC 2025 | W40: PDC 2025 (Excepto Madrid/Barcelona) | X40: PDC 2025 (Madrid/Barcelona) | AB40: JUAN DE LA CIERVA 2024 (Madrid/Barcelona) | AF40: PCI 2024
C41: Elija Opción | D41: 0 | F41: Elija Opción | G41: 0 | K41: Gasolina | T41: =IF(AND($W$19=$V41,$X$19<>"30"),"La orgánica indicada no opera con el proyecto seleccionado","") | U41: 30 | V41: PID 2023 | W41: PID 2023 (Excepto Madrid/Barcelona) | X41: PID 2023 (Madrid/Barcelona) | AB41: Junta excepto Madrid | AF41: PCI 2025
...

Sheet ANEXO
A1: JUNTA | B1: ALOJAMIENTO | C1: MANUTENCION PERNOC | D1: MINISTERIO | E1: ALOJAMIENTO | F1: MANUTENCION | G1: 1/2 MANUTEN. | H1: GRUPO 1 | I1: ALOJAMIENTO | J1: MANUTENCION | K1: MEDIA | N1: Elija la Opción ▼ | O1: 2 | P1: 1/2 Manutención 3 | Q1: 4 | R1: Manutención conmpleta 5 | S1: Sin pernoctar 6 | T1: sin pernoctar 7 | U1: 8 | V1: 9 | W1: ALOJAMIENTO 10 | X1: FECHA | Y1: 46022 | AA1: Elija la Opción ▼ | AB1: BOLSA | AC1: COLUM 3 | AD1: COLUM 4 | AF1: Instrucción 3/2025, de 23/06 de la Gerencia de la US | AG1: FECHA INICIO DEL VIAJE | AH1: 45834 | AI1: NUEVO LISTADO | AJ1: BUSCAR | AO1: NORMATIVA | AP1: BORRADOR | AQ1: EXPERIMENTALLINEA2 | BB1: ='LIQUIDACIÓN-GASTOS'!AF2 | BC1: =IF(OR(BB1=AX2,BB1=AX4,BB1=AX5),"NORMATIVA",IF(BB1=AX6,"BORRADOR",IF(FORMULARIO!W19="DGP-PIDI-2024","EXPERIMENTALLINEA2","")))
A2: ELIJA EL PAÍS ▼ | D2: ELIJA EL PAÍS ▼ | H2: ELIJA EL PAÍS ▼ | N2: ATRAE 2023 (Excepto Madrid/Barcelona) | O2: 1/2 Manutención | P2: =IF(#REF!=$AF$2,20.41,IF(#REF!=$AF$1,23.67,"")) -> #REF! | Q2: Manutención completa | R2: =IF(#REF!=$AF$2,40.82,IF(#REF!=$AF$1,53.34,"")) -> #REF! | S2: Manutención sin pernoctar | T2: 26.67 | U2: =IF($AG$2<$AH$1,$AF$2,IF($AG$2>$AH$1,$AF$1,"")) -> Instrucción 3/2025, de 23/06 de la Gerencia de la US | W2: =IF(#REF!=$AF$2,90,IF(#REF!=$AF$1,130,"")) -> #REF! | X2: 50 | Y2: 65 | Z2: * | AA2: ATRAE 2023 (Excepto Madrid/Barcelona) | AB2: ATRAE 2023 (Excepto Madrid/Barcelona) | AC2: 50 | AD2: 65 | AF2: Instrucción 3/2021, de 22 de diciembre de la Gerencia de la US | AG2: =IF(FORMULARIO!C54<>"",FORMULARIO!C54,IF(AND(FORMULARIO!C54="",FORMULARIO!C69<>""),FORMULARIO!C69,"")) | AH2: <26/06/2025 | AI2: AFGANISTAN | AJ2: RESTO DEL MUNDO | AO2: ELIJA EL PAÍS ▼ | AP2: ELIJA EL PAÍS ▼ | AQ2: ELIJA EL PAÍS ▼ | AR2: CONTINENTES | AS2: COSTE UNITARIO DIARIO | AT2: MAS ECONOMICO | AX2: Instrucción 3/2025, de 23/06 de la Gerencia de la US | BC2: ELIJA EL PAÍS ▼
A3: ALEMANIA | B3: 142.04 | C3: 63.63 | D3: ALEMANIA | E3: 132.82 | F3: 59.5 | G3: =F3/2 -> 29.75 | H3: Alemania | I3: 155.66 | J3: 68.52 | K3: =J3/2 -> 34.26 | N3: ATRAE 2023 (Madrid/Barcelona) | O3: 1/2 Manutención | P3: =IF(#REF!=$AF$2,20.89,IF(#REF!=$AF$1,23.67,"")) -> #REF! | Q3: Manutención pernoctando | R3: =IF(#REF!=$AF$2,41.78,IF(#REF!=$AF$1,53.34,"")) -> #REF! | S3: Manutención sin pernoctar | T3: 26.67 | U3: =IF($AG$2<$AH$1,$AF$2,IF($AG$2>$AH$1,$AF$1,"")) -> Instrucción 3/2025, de 23/06 de la Gerencia de la US | V3: 23.67 | W3: =IF(#REF!=$AF$2,120,IF(#REF!=$AF$1,150,"")) -> #REF! | X3: 50 | Y3: 65 | Z3: * | AA3: ATRAE 2023 (Madrid/Barcelona) | AB3: ATRAE 2023 (Madrid/Barcelona) | AC3: 50 | AD3: 65 | AF3: DECRETO DE DIETAS 54/1989 | AI3: ALBANIA | AJ3: RESTO DEL MUNDO | AO3: ALEMANIA | AP3: AFGANISTAN | AQ3: SI NO FIGURA EN ESTA RELACIÓN EL PAÍS, ELIJA EL CONTINENTE DEL FINAL DE LA LISTA | AT3: 71.67 | AU3: EUROPA | AV3: BULGARIA | AX3: DGP-PIDI-2024
A4: ANDORRA | B4: 50.13 | C4: 40.49 | D4: ANDORRA | E4: 46.88 | F4: 37.86 | G4: =F4/2 -> 18.93 | H4: Andorra | I4: 54.69 | J4: 44.47 | K4: =J4/2 -> 22.24 | N4: ATRAE 2024 (Excepto Madrid/Barcelona) | O4: 1/2 Manutención | P4: =IF(#REF!=$AF$2,20.41,IF(#REF!=$AF$1,23.67,"")) -> #REF! | Q4: Manutención pernoctando | R4: =IF(#REF!=$AF$2,40.82,IF(#REF!=$AF$1,53.34,"")) -> #REF! | S4: Manutención sin pernoctar | T4: 26.67 | U4: =IF($AG$2<$AH$1,$AF$2,IF($AG$2>$AH$1,$AF$1,"")) -> Instrucción 3/2025, de 23/06 de la Gerencia de la US | W4: =IF(#REF!=$AF$2,90,IF(#REF!=$AF$1,130,"")) -> #REF! | X4: 50 | Y4: 65 | Z4: * | AA4: ATRAE 2024 (Excepto Madrid/Barcelona) | AB4: ATRAE 2024 (Excepto Madrid/Barcelona) | AC4: 50 | AD4: 65 | AF4: R.D. 462/2002 de 24 DE MAYO | AI4: ALEMANIA | AJ4: ALEMANIA | AO4: ANDORRA | AP4: ALBANIA | AQ4: ALEMANIA | AR4: EUROPA | AS4: 85.9 | AT4: 71.67 | AU4: ASIA | AV4: TAIWAN | AX4: DECRETO DE DIETAS 54/1989
A5: ANGOLA | B5: 144.61 | C5: 63.63 | D5: ANGOLA | E5: 135.23 | F5: 59.5 | G5: =F5/2 -> 29.75 | H5: Angola | I5: 158.67 | J5: 66.71 | K5: =J5/2 -> 33.36 | N5: ATRAE 2024 (Madrid/Barcelona) | O5: 1/2 Manutención | P5: =IF(#REF!=$AF$2,20.89,IF(#REF!=$AF$1,23.67,"")) -> #REF! | Q5: Manutención pernoctando | R5: =IF(#REF!=$AF$2,41.78,IF(#REF!=$AF$1,53.34,"")) -> #REF! | S5: Manutención sin pernoctar | T5: 26.67 | U5: =IF($AG$2<$AH$1,$AF$2,IF($AG$2>$AH$1,$AF$1,"")) -> Instrucción 3/2025, de 23/06 de la Gerencia de la US | W5: =IF(#REF!=$AF$2,120,IF(#REF!=$AF$1,150,"")) -> #REF! | X5: 50 | Y5: 65 | Z5: * | AA5: ATRAE 2024 (Madrid/Barcelona) | AB5: ATRAE 2024 (Madrid/Barcelona) | AC5: 50 | AD5: 65 | AF5: BORRADOR | AG5: 48213 | AI5: ANDORRA | AJ5: ANDORRA | AO5: ANGOLA | AP5: ALEMANIA | AQ5: ARABIA SAUDITA | AR5: ASIA | AS5: 78.3 | AT5: 71.67 | AU5: AMERICA | AV5: CUBA | AX5: R.D. 462/2002 de 24 DE MAYO
A6: ARABIA SAUDITA | B6: 79.05 | C6: 57.84 | D6: ARABIA SAUDITA | E6: 73.92 | F6: 54.09 | G6: =F6/2 -> 27.05 | H6: Arabia Saudita | I6: 86.55 | J6: 60.7 | K6: =J6/2 -> 30.35 | N6: CEX 2024 (Excepto Madrid/Barcelona) | O6: 1/2 Manutención | P6: =IF(#REF!=$AF$2,20.41,IF(#REF!=$AF$1,23.67,"")) -> #REF! | Q6: Manutención pernoctando | R6: =IF(#REF!=$AF$2,40.82,IF(#REF!=$AF$1,53.34,"")) -> #REF! | S6: Manutención sin pernoctar | T6: 26.67 | U6: =IF($AG$2<$AH$1,$AF$2,IF($AG$2>$AH$1,$AF$1,"")) -> Instrucción 3/2025, de 23/06 de la Gerencia de la US | W6: =IF(#REF!=$AF$2,90,IF(#REF!=$AF$1,130,"")) -> #REF! | Z6: * | AA6: CEX 2024 (Excepto Madrid/Barcelona) | AB6: CEX 2024 (Excepto Madrid/Barcelona) | AC6: 50 | AD6: 65 | AI6: ANGOLA | AJ6: ANGOLA | AO6: ARABIA SAUDITA | AP6: ANDORRA | AQ6: ARGENTINA | AR6: AMERICA | AS6: 81.77 | AT6: 72.07 | AU6: OCEANIA | AV6: NUEVA ZELANDA | AX6: BORRADOR
A7: ARGELIA | B7: 108.62 | C7: 47.56 | D7: ARGELIA | E7: 101.57 | F7: 44.47 | G7: =F7/2 -> 22.24 | H7: Argelia | I7: 119 | J7: 51.09 | K7: =J7/2 -> 25.55 | M7: 30 | N7: CEX 2024 (Madrid/Barcelona) | O7: 1/2 Manutención | P7: =IF(#REF!=$AF$2,20.89,IF(#REF!=$AF$1,23.67,"")) -> #REF! | Q7: Manutención pernoctando | R7: =IF(#REF!=$AF$2,41.78,IF(#REF!=$AF$1,53.34,"")) -> #REF! | S7: Manutención sin pernoctar | T7: 26.67 | U7: =IF($AG$2<$AH$1,$AF$2,IF($AG$2>$AH$1,$AF$1,"")) -> Instrucción 3/2025, de 23/06 de la Gerencia de la US | W7: =IF(#REF!=$AF$2,120,IF(#REF!=$AF$1,150,"")) -> #REF! | Z7: * | AA7: CEX 2024 (Madrid/Barcelona) | AB7: CEX 2024 (Madrid/Barcelona) | AC7: 50 | AD7: 65 | AF7: =IF($AG$2>$AG$5,$AF$5,"") -> BORRADOR | AG7: BORRADOR | AI7: ARABIA SAUDITA | AJ7: ARABIA SAUDITA | AO7: ARGELIA | AP7: ANGOLA | AQ7: AUSTRALIA | AR7: OCEANIA | AS7: 76.3 | AT7: 72.07 | AU7: AFRICA | AV7: TANZANIA
A8: ARGENTINA | B8: 118.91 | C8: 59.13 | D8: ARGENTINA | E8: 111.19 | F8: 55.29 | G8: =F8/2 -> 27.65 | H8: Argentina | I8: 130.42 | J8: 64.91 | K8: =J8/2 -> 32.46 | M8: 35 | N8: CNS 2024 (Excepto Madrid/Barcelona) | O8: 1/2 Manutención | P8: =IF(#REF!=$AF$2,20.41,IF(#REF!=$AF$1,23.67,"")) -> #REF! | Q8: Manutención completa | R8: =IF(#REF!=$AF$2,40.82,IF(#REF!=$AF$1,53.34,"")) -> #REF! | S8: Manutención sin pernoctar | T8: 26.67 | U8: =IF($AG$2<$AH$1,$AF$2,IF($AG$2>$AH$1,$AF$1,"")) -> Instrucción 3/2025, de 23/06 de la Gerencia de la US | W8: =IF(#REF!=$AF$2,90,IF(#REF!=$AF$1,130,"")) -> #REF! | X8: 50 | Y8: 65 | Z8: * | AA8: CNS 2024 (Excepto Madrid/Barcelona) | AB8: CNS 2024 (Excepto Madrid/Barcelona) | AC8: 50 | AD8: 65 | AF8: =VLOOKUP(#REF!,A210:C387,3,0) -> #REF! | AG8: ALOJAMIENTOS EXTRANJERO | AI8: ARGELIA | AJ8: ARGELIA | AO8: ARGENTINA | AP8: ARABIA SAUDITA | AQ8: AUSTRIA | AR8: EUROPA | AS8: 79.83 | AX8: =IF(BB1=AX5,"NORMATIVAS") -> FALSE
A9: AUSTRALIA | B9: 86.77 | C9: 54.64 | D9: AUSTRALIA | E9: 81.14 | F9: 51.09 | G9: =F9/2 -> 25.55 | H9: Australia | I9: 94.96 | J9: 57.1 | K9: =J9/2 -> 28.55 | N9: CNS 2024 (Madrid/Barcelona) | O9: 1/2 Manutención | P9: =IF(#REF!=$AF$2,20.89,IF(#REF!=$AF$1,23.67,"")) -> #REF! | Q9: Manutención pernoctando | R9: =IF(#REF!=$AF$2,41.78,IF(#REF!=$AF$1,53.34,"")) -> #REF! | S9: Manutención sin pernoctar | T9: 26.67 | U9: =IF($AG$2<$AH$1,$AF$2,IF($AG$2>$AH$1,$AF$1,"")) -> Instrucción 3/2025, de 23/06 de la Gerencia de la US | W9: =IF(#REF!=$AF$2,120,IF(#REF!=$AF$1,150,"")) -> #REF! | X9: 50 | Y9: 65 | Z9: * | AA9: CNS 2024 (Madrid/Barcelona) | AB9: CNS 2024 (Madrid/Barcelona) | AC9: 50 | AD9: 65 | AG9: MANUTENCION PERNOCATANDO EXTRANJERO | AI9: ARGENTINA | AJ9: ARGENTINA | AO9: AUSTRALIA | AP9: ARGELIA | AQ9: BELGICA | AR9: EUROPA | AS9: 92.17 | AT9: Si no figura en esta relación el país, elija el continente del final de la lista
A10: AUSTRIA | B10: 102.19 | C10: 62.99 | D10: AUSTRIA | E10: 95.56 | F10: 58.9 | G10: =F10/2 -> 29.45 | H10: Austria | I10: 112.39 | J10: 66.11 | K10: =J10/2 -> 33.06 | N10: CPP 2024 (Excepto Madrid/Barcelona) | O10: 1/2 Manutención | P10: =IF(#REF!=$AF$2,20.41,IF(#REF!=$AF$1,23.67,"")) -> #REF! | Q10: Manutención pernoctando | R10: =IF(#REF!=$AF$2,40.82,IF(#REF!=$AF$1,53.34,"")) -> #REF! | S10: Manutención sin pernoctar | T10: 26.67 | U10: =IF($AG$2<$AH$1,$AF$2,IF($AG$2>$AH$1,$AF$1,"")) -> Instrucción 3/2025, de 23/06 de la Gerencia de la US | V10: 45839 | W10: =IF(#REF!=$AF$2,90,IF(#REF!=$AF$1,130,"")) -> #REF! | AA10: CNS 2023 (Excepto Madrid/Barcelona) | AB10: CNS 2023 (Excepto Madrid/Barcelona) | AC10: 50 | AD10: 65 | AI10: ARMENIA | AJ10: RESTO DEL MUNDO | AO10: AUSTRIA | AP10: ARGENTINA | AQ10: BRASIL | AR10: AMERICA | AS10: 88.33
A11: BELGICA | B11: 158.75 | C11: 88.7 | D11: BELGICA | E11: 148.45 | F11: 82.94 | G11: =F11/2 -> 41.47 | H11: Belgica | I11: 174.29 | J11: 91.35 | K11: =J11/2 -> 45.68 | N11: CPP 2024 (Madrid/Barcelona) | O11: 1/2 Manutención | P11: =IF(#REF!=$AF$2,20.89,IF(#REF!=$AF$1,23.67,"")) -> #REF! | Q11: Manutención pernoctando | R11: =IF(#REF!=$AF$2,41.78,IF(#REF!=$AF$1,53.34,"")) -> #REF! | S11: Manutención sin pernoctar | T11: 26.67 | U11: =IF($AG$2<$AH$1,$AF$2,IF($AG$2>$AH$1,$AF$1,"")) -> Instrucción 3/2025, de 23/06 de la Gerencia de la US | V11: ESTA NORMATIVA ES PARA VIAJES POSTERIOR A26/06/2025 | W11: =IF(#REF!=$AF$2,120,IF(#REF!=$AF$1,150,"")) -> #REF! | AA11: CNS 2023 (Madrid/Barcelona) | AB11: CNS 2023 (Madrid/Barcelona) | AC11: 50 | AD11: 65 | AI11: AUSTRALIA | AJ11: AUSTRALIA | AO11: BELGICA | AP11: ARMENIA | AQ11: BULGARIA | AR11: EUROPA | AS11: 71.67 | AT11: SI NO FIGURA EN ESTA RELACIÓN EL PAÍS, ELIJA EL CONTINENTE DEL FINAL DE LA LISTA
A12: BOLIVIA | B12: 54.64 | C12: 39.2 | D12: BOLIVIA | E12: 51.09 | F12: 36.66 | G12: =F12/2 -> 18.33 | H12: Bolivia | I12: 60.1 | J12: 42.67 | K12: =J12/2 -> 21.34 | N12: EUR 2024 (Excepto Madrid/Barcelona) | O12: 1/2 Manutención | P12: =IF(#REF!=$AF$2,20.41,IF(#REF!=$AF$1,23.67,"")) -> #REF! | Q12: Manutención pernoctando | R12: =IF(#REF!=$AF$2,40.82,IF(#REF!=$AF$1,53.34,"")) -> #REF! | S12: Manutención sin pernoctar | T12: 26.67 | U12: =IF($AG$2<$AH$1,$AF$2,IF($AG$2>$AH$1,$AF$1,"")) -> Instrucción 3/2025, de 23/06 de la Gerencia de la US | V12: ESTA NORMATIVA ES PARA VIAJES POSTERIOR A 26/06/2025 | W12: =IF(#REF!=$AF$2,90,IF(#REF!=$AF$1,130,"")) -> #REF! | AA12: CPP 2024 (Excepto Madrid/Barcelona) | AB12: PID 2022 (Excepto Madrid/Barcelona) | AC12: 50 | AD12: 65 | AI12: AUSTRIA | AJ12: AUSTRIA | AO12: BOLIVIA | AP12: AUSTRALIA | AQ12: CANADA | AR12: AMERICA | AS12: 78.5
A13: BOSNIA Y HERZEGOVINA | B13: 77.77 | C13: 53.34 | D13: BOSNIA Y HERZEGOVINA | E13: 72.72 | F13: 49.88 | G13: =F13/2 -> 24.94 | H13: Bosnia-Herzegovina | I13: 85.34 | J13: 57.7 | K13: =J13/2 -> 28.85 | M13: 37 | N13: EUR 2024 (Madrid/Barcelona) | O13: 1/2 Manutención | P13: =IF(#REF!=$AF$2,20.89,IF(#REF!=$AF$1,23.67,"")) -> #REF! | Q13: Manutención pernoctando | R13: =IF(#REF!=$AF$2,41.78,IF(#REF!=$AF$1,53.34,"")) -> #REF! | S13: Manutención sin pernoctar | T13: 26.67 | U13: =IF($AG$2<$AH$1,$AF$2,IF($AG$2>$AH$1,$AF$1,"")) -> Instrucción 3/2025, de 23/06 de la Gerencia de la US | W13: =IF(#REF!=$AF$2,120,IF(#REF!=$AF$1,150,"")) -> #REF! | AA13: CPP 2024 (Madrid/Barcelona) | AB13: PID 2022 (Madrid/Barcelona) | AC13: 50 | AD13: 65 | AI13: AZERBAIYAN | AJ13: RESTO DEL MUNDO | AO13: BOSNIA Y HERZEGOVINA | AP13: AUSTRIA | AQ13: CHILE | AR13: AMERICA | AS13: 79.57
A14: BRASIL | B14: 136.9 | C14: 84.84 | D14: BRASIL | E14: 128.02 | F14: 79.33 | G14: =F14/2 -> 39.67 | H14: Brasil | I14: 150.25 | J14: 91.35 | K14: =J14/2 -> 45.68 | M14: 37 | N14: JUAN DE LA CIERVA 2023 (Excepto Madrid/Barcelona) | O14: 1/2 Manutención | P14: =IF(#REF!=$AF$2,20.41,IF(#REF!=$AF$1,23.67,"")) -> #REF! | Q14: Manutención pernoctando | R14: =IF(#REF!=$AF$2,40.82,IF(#REF!=$AF$1,53.34,"")) -> #REF! | S14: Manutención sin pernoctar | T14: 26.67 | U14: =IF($AG$2<$AH$1,$AF$2,IF($AG$2>$AH$1,$AF$1,"")) -> Instrucción 3/2025, de 23/06 de la Gerencia de la US | W14: =IF(#REF!=$AF$2,90,IF(#REF!=$AF$1,130,"")) -> #REF! | AA14: EUR 2024 (Excepto Madrid/Barcelona) | AB14: PID 2023 (Excepto Madrid/Barcelona) | AC14: 50 | AD14: 65 | AI14: BAHAMAS | AJ14: RESTO DEL MUNDO | AO14: BRASIL | AP14: AZERBAIYAN | AQ14: CHINA | AR14: ASIA | AS14: 73.97
A15: BULGARIA | B15: 57.2 | C15: 40.49 | D15: BULGARIA | E15: 53.49 | F15: 37.86 | G15: =F15/2 -> 18.93 | H15: Bulgaria | I15: 62.51 | J15: 44.47 | K15: =J15/2 -> 22.24 | M15: 37 | N15: JUAN DE LA CIERVA 2023 (Madrid/Barcelona) | O15: 1/2 Manutención | P15: =IF(#REF!=$AF$2,20.89,IF(#REF!=$AF$1,23.67,"")) -> #REF! | Q15: Manutención pernoctando | R15: =IF(#REF!=$AF$2,41.78,IF(#REF!=$AF$1,53.34,"")) -> #REF! | S15: Manutención sin pernoctar | T15: 26.67 | U15: =IF($AG$2<$AH$1,$AF$2,IF($AG$2>$AH$1,$AF$1,"")) -> Instrucción 3/2025, de 23/06 de la Gerencia de la US | W15: =IF(#REF!=$AF$2,120,IF(#REF!=$AF$1,150,"")) -> #REF! | AA15: EUR 2024 (Madrid/Barcelona) | AB15: PID 2023 (Madrid/Barcelona) | AC15: 50 | AD15: 65 | AI15: BANGLADESH | AJ15: RESTO DEL MUNDO | AO15: BULGARIA | AP15: BAHAMAS | AQ15: CHIPRE | AR15: EUROPA | AS15: 72.43
A16: CAMERUN | B16: 94.48 | C16: 52.06 | D16: CAMERUN | E16: 88.35 | F16: 48.68 | G16: =F16/2 -> 24.34 | H16: Camerun | I16: 103.37 | J16: 55.29 | K16: =J16/2 -> 27.65 | M16: 37 | N16: JUAN DE LA CIERVA 2024 (Excepto Madrid/Barcelona) | O16: 1/2 Manutención | P16: =IF(#REF!=$AF$2,20.41,IF(#REF!=$AF$1,23.67,"")) -> #REF! | Q16: Manutención pernoctando | R16: =IF(#REF!=$AF$2,40.82,IF(#REF!=$AF$1,53.34,"")) -> #REF! | S16: Manutención sin pernoctar | T16: 26.67 | U16: =IF($AG$2<$AH$1,$AF$2,IF($AG$2>$AH$1,$AF$1,"")) -> Instrucción 3/2025, de 23/06 de la Gerencia de la US | W16: =IF(#REF!=$AF$2,90,IF(#REF!=$AF$1,130,"")) -> #REF! | AA16: JUAN DE LA CIERVA 2023 (Excepto Madrid/Barcelona) | AB16: PID 2024 (Excepto Madrid/Barcelona) | AC16: 50 | AD16: 65 | AI16: BARBADOS | AJ16: RESTO DEL MUNDO | AO16: CAMERUN | AP16: BANGLADESH | AQ16: COLOMBIA | AR16: AMERICA | AS16: 87.47
A17: CANADA | B17: 100.91 | C17: 55.28 | D17: CANADA | E17: 94.36 | F17: 51.69 | G17: =F17/2 -> 25.85 | H17: Canada | I17: 110.59 | J17: 58.3 | K17: =J17/2 -> 29.15 | M17: 37 | N17: JUAN DE LA CIERVA 2024 (Madrid/Barcelona) | O17: 1/2 Manutención | P17: =IF(#REF!=$AF$2,20.89,IF(#REF!=$AF$1,23.67,"")) -> #REF! | Q17: Manutención pernoctando | R17: =IF(#REF!=$AF$2,41.78,IF(#REF!=$AF$1,53.34,"")) -> #REF! | S17: Manutención sin pernoctar | T17: 26.67 | U17: =IF($AG$2<$AH$1,$AF$2,IF($AG$2>$AH$1,$AF$1,"")) -> Instrucción 3/2025, de 23/06 de la Gerencia de la US | W17: =IF(#REF!=$AF$2,120,IF(#REF!=$AF$1,150,"")) -> #REF! | AA17: JUAN DE LA CIERVA 2023 (Madrid/Barcelona) | AB17: PID 2024 (Madrid/Barcelona) | AC17: 50 | AD17: 65 | AF17: =IF(OR(FORMULARIO!C54="",FORMULARIO!C69=""),FORMULARIO!C113) -> 0 | AI17: BAREIN | AJ17: RESTO DEL MUNDO | AO17: CANADA | AP17: BARBADOS | AQ17: COREA | AR17: ASIA | AS17: 80.33
A18: CHILE | B18: 109.26 | C18: 53.99 | D18: CHILE | E18: 102.17 | F18: 50.49 | G18: =F18/2 -> 25.25 | H18: Chile | I18: 120.2 | J18: 57.7 | K18: =J18/2 -> 28.85 | M18: 37 | N18: Junta excepto Madrid | O18: 1/2 Manutención | P18: =IF(AG2>AG5,22.45,20.41) -> 22.45 | Q18: Manutención pernoctando | R18: =IF(AG2>AG5,44.9,40.82) -> 44.9 | S18: Manutención sin pernoctar | T18: 26.67 | U18: =IF($AG$2>$AG$5,$AF$5,"DECRETO DE DIETAS 54/1989") -> BORRADOR | W18: =IF($AG$2>$AG$5,96.73,64.27) -> 96.73 | AA18: JUAN DE LA CIERVA 2024 (Excepto Madrid/Barcelona) | AB18: CEX 2024 (Excepto Madrid/Barcelona) | AC18: 50 | AD18: 65 | AI18: BELGICA | AJ18: BÉLGICA | AO18: CHILE | AP18: BAREIN | AQ18: COSTA RICA | AR18: AMERICA | AS18: 72.73
A19: CHINA | B19: 76.48 | C19: 49.49 | D19: CHINA | E19: 71.52 | F19: 46.28 | G19: =F19/2 -> 23.14 | H19: China | I19: 84.14 | J19: 51.69 | K19: =J19/2 -> 25.85 | M19: 3 | N19: Junta Madrid | O19: 1/2 Manutención | P19: =IF(AG2>AG5,24.02,20.89) -> 24.02 | Q19: Manutención pernoctando | R19: =IF(AG2>AG5,48.05,41.78) -> 48.05 | S19: Manutención sin pernoctar | T19: 26.67 | U19: =IF($AG$2>$AG$5,$AF$5,"DECRETO DE DIETAS 54/1989") -> BORRADOR | W19: =IF($AG$2>$AG$5,149.44,96.41) -> 149.44 | AA19: JUAN DE LA CIERVA 2024 (Madrid/Barcelona) | AB19: CEX 2024 (Madrid/Barcelona) | AC19: 50 | AD19: 65 | AI19: BELICE | AJ19: RESTO DEL MUNDO | AO19: CHINA | AP19: BELGICA | AQ19: CROACIA | AR19: EUROPA | AS19: 74.73
A20: COLOMBIA | B20: 132.4 | C20: 83.55 | D20: COLOMBIA | E20: 123.81 | F20: 78.13 | G20: =F20/2 -> 39.07 | H20: Colombia | I20: 145.44 | J20: 90.15 | K20: =J20/2 -> 45.08 | M20: 37 | N20: Ministerio | O20: 1/2 Manutención | P20: 18.7 | Q20: Manutención completa | R20: 37.4 | S20: . | T20: . | U20: R.D. 462/2002 de 24 DE MAYO | W20: 65.97 | AA20: Junta excepto Madrid | AB20: CNS 2024 (Excepto Madrid/Barcelona) | AC20: 50 | AD20: 65 | AI20: BENIN | AJ20: RESTO DEL MUNDO | AO20: COLOMBIA | AP20: BELICE | AQ20: CUBA | AR20: AMERICA | AS20: 71.67
A21: COREA | B21: 109.26 | C21: 59.13 | D21: COREA | E21: 102.17 | F21: 55.29 | G21: =F21/2 -> 27.65 | H21: Corea | I21: 120.2 | J21: 62.51 | K21: =J21/2 -> 31.26 | M21: 37 | N21: Normativa US (Excepto Madrid/Barcelona) | O21: 1/2 Manutención | P21: =IF(#REF!=$AF$2,20.41,IF(#REF!=$AF$1,23.67,"")) -> #REF! | Q21: Manutención pernoctando | R21: =IF(#REF!=$AF$2,40.82,IF(#REF!=$AF$1,53.34,"")) -> #REF! | S21: Manutención sin pernoctar | T21: 26.67 | U21: =IF($AG$2<$AH$1,$AF$2,IF($AG$2>$AH$1,$AF$1,"")) -> Instrucción 3/2025, de 23/06 de la Gerencia de la US | W21: =IF(#REF!=$AF$2,90,IF(#REF!=$AF$1,130,"")) -> #REF! | AA21: Junta Madrid | AB21: CNS 2024 (Madrid/Barcelona) | AC21: 50 | AD21: 65 | AI21: BIELORRUSIA | AJ21: RESTO DEL MUNDO | AO21: COREA | AP21: BENIN | AQ21: DINAMARCA | AR21: EUROPA | AS21: 85.13
A22: COSTA DE MARFIL | B22: 65.55 | C22: 52.7 | D22: COSTA DE MARFIL | E22: 61.3 | F22: 49.28 | G22: =F22/2 -> 24.64 | H22: Costa de Marfil | I22: 72.12 | J22: 52.29 | K22: =J22/2 -> 26.15 | M22: 37 | N22: Normativa US (Madrid/Barcelona) | O22: 1/2 Manutención | P22: =IF(#REF!=$AF$2,20.89,IF(#REF!=$AF$1,23.67,"")) -> #REF! | Q22: Manutención pernoctando | R22: =IF(#REF!=$AF$2,41.78,IF(#REF!=$AF$1,53.34,"")) -> #REF! | S22: Manutención sin pernoctar | T22: 26.67 | U22: =IF($AG$2<$AH$1,$AF$2,IF($AG$2>$AH$1,$AF$1,"")) -> Instrucción 3/2025, de 23/06 de la Gerencia de la US | W22: =IF(#REF!=$AF$2,120,IF(#REF!=$AF$1,150,"")) -> #REF! | AA22: Ministerio | AB22: PCI 2024 (Excepto Madrid/Barcelona) | AC22: 50 | AD22: 65 | AI22: BOLIVIA | AJ22: BOLIVIA | AO22: COSTA DE MARFIL | AP22: BIELORRUSIA | AQ22: EGIPTO | AR22: AFRICA | AS22: 79.83
A23: COSTA RICA | B23: 70.06 | C23: 47.56 | D23: COSTA RICA | E23: 65.51 | F23: 44.47 | G23: =F23/2 -> 22.24 | H23: Costa Rica | I23: 76.93 | J23: 57.7 | K23: =J23/2 -> 28.85 | M23: 37 | N23: Para proyectos Cátedras (Ministerio) GRUPO 1 (Catedráticos) | O23: 1/2 Manutención | P23: 26.67 | Q23: Manutención completa | R23: 53.34 | S23: * | T23: 0 | U23: R.D. 462/2002 de 24 DE MAYO | W23: 102.56 | AA23: Normativa US (Excepto Madrid/Barcelona) | AB23: PCI 2025 (Excepto Madrid/Barcelona) | AC23: 50 | AD23: 65 | AI23: BOSNIA Y HERZEGOVINA | AJ23: BOSNIA Y HERZEGOVINA | AO23: COSTA RICA | AP23: BOLIVIA | AQ23: EMIRATOS ARABES | AR23: ASIA | AS23: 80.43
A24: CROACIA | B24: 77.77 | C24: 53.34 | D24: CROACIA | E24: 72.72 | F24: 49.88 | G24: =F24/2 -> 24.94 | H24: Croacia | I24: 85.34 | J24: 38.46 | K24: =J24/2 -> 19.23 | M24: 37 | N24: Para proyectos Cátedras (Ministerio) GRUPO 2 (Personal Investigador) | O24: 1/2 Manutención | P24: 18.7 | Q24: Manutención completa | R24: 37.4 | S24: * | T24: 0 | U24: R.D. 462/2002 de 24 DE MAYO | W24: 65.97 | AA24: Normativa US (Madrid/Barcelona) | AB24: PCI 2024 (Madrid/Barcelona) | AC24: 50 | AD24: 65 | AI24: BOTSUANA | AJ24: RESTO DEL MUNDO | AO24: CROACIA | AP24: BOSNIA Y HERZEGOVINA | AQ24: ESLOVAQUIA | AR24: EUROPA | AS24: 78.3
A25: CUBA | B25: 60.42 | C25: 35.35 | D25: CUBA | E25: 56.5 | F25: 33.06 | G25: =F25/2 -> 16.53 | H25: Cuba | I25: 66.11 | J25: 72.12 | K25: =J25/2 -> 36.06 | M25: 36 | N25: PID 2022 (Excepto Madrid/Barcelona) | O25: 1/2 Manutención | P25: =IF(#REF!=$AF$2,20.41,IF(#REF!=$AF$1,23.67,"")) -> #REF! | Q25: Manutención pernoctando | R25: =IF(#REF!=$AF$2,40.82,IF(#REF!=$AF$1,53.34,"")) -> #REF! | S25: Manutención sin pernoctar | T25: 26.67 | U25: =IF($AG$2<$AH$1,$AF$2,IF($AG$2>$AH$1,$AF$1,"")) -> Instrucción 3/2025, de 23/06 de la Gerencia de la US | W25: =IF(#REF!=$AF$2,90,IF(#REF!=$AF$1,130,"")) -> #REF! | X25: 50 | Y25: 65 | AA25: Para proyectos Cátedras (Ministerio) GRUPO 1 (Catedráticos) | AB25: PCI 2025 (Madrid/Barcelona) | AC25: 50 | AD25: 65 | AI25: BRASIL | AJ25: BRASIL | AO25: CUBA | AP25: BOTSUANA | AQ25: ESLOVENIA | AR25: EUROPA | AS25: 74.17
A26: DINAMARCA | B26: 131.12 | C26: 69.41 | D26: DINAMARCA | E26: 122.61 | F26: 64.91 | G26: =F26/2 -> 32.46 | H26: Dinamarca | I26: 144.24 | J26: 42.07 | K26: =J26/2 -> 21.04 | M26: 36 | N26: PID 2022 (Madrid/Barcelona) | O26: 1/2 Manutención | P26: =IF(#REF!=$AF$2,20.89,IF(#REF!=$AF$1,23.67,"")) -> #REF! | Q26: Manutención pernoctando | R26: =IF(#REF!=$AF$2,41.78,IF(#REF!=$AF$1,53.34,"")) -> #REF! | S26: Manutención sin pernoctar | T26: 26.67 | U26: =IF($AG$2<$AH$1,$AF$2,IF($AG$2>$AH$1,$AF$1,"")) -> Instrucción 3/2025, de 23/06 de la Gerencia de la US | W26: =IF(#REF!=$AF$2,120,IF(#REF!=$AF$1,150,"")) -> #REF! | X26: 50 | Y26: 65 | AA26: Para proyectos Cátedras (Ministerio) GRUPO 2 (Personal Investigador) | AB26: CPP 2024 (Excepto Madrid/Barcelona) | AC26: 50 | AD26: 65 | AI26: BRUNEI | AJ26: RESTO DEL MUNDO | AO26: DINAMARCA | AP26: BRASIL | AQ26: ESTADOS UNIDOS | AR26: AMERICA | AS26: 89.2
A27: ECUADOR | B27: 69.41 | C27: 46.24 | D27: ECUADOR | E27: 64.91 | F27: 43.27 | G27: =F27/2 -> 21.64 | H27: R. Dominicana | I27: 75.13 | J27: 50.49 | K27: =J27/2 -> 25.25 | M27: 36 | N27: PID 2023 (Excepto Madrid/Barcelona) | O27: 1/2 Manutención | P27: =IF(#REF!=$AF$2,20.41,IF(#REF!=$AF$1,23.67,"")) -> #REF! | Q27: Manutención pernoctando | R27: =IF(#REF!=$AF$2,40.82,IF(#REF!=$AF$1,53.34,"")) -> #REF! | S27: Manutención sin pernoctar | T27: 26.67 | U27: =IF($AG$2<$AH$1,$AF$2,IF($AG$2>$AH$1,$AF$1,"")) -> Instrucción 3/2025, de 23/06 de la Gerencia de la US | W27: =IF(#REF!=$AF$2,90,IF(#REF!=$AF$1,130,"")) -> #REF! | X27: 50 | Y27: 65 | AA27: PID 2022 (Excepto Madrid/Barcelona) | AB27: CPP 2024 (Madrid/Barcelona) | AC27: 50 | AD27: 65 | AI27: BULGARIA | AJ27: BULGARIA | AO27: ECUADOR | AP27: BRUNEI | AQ27: ESTONIA | AR27: EUROPA | AS27: 81.77
A28: EGIPTO | B28: 97.69 | C28: 41.78 | D28: EGIPTO | E28: 91.35 | F28: 39.07 | G28: =F28/2 -> 19.54 | H28: Ecuador | I28: 75.73 | J28: 44.47 | K28: =J28/2 -> 22.24 | M28: 30 | N28: PID 2023 (Madrid/Barcelona) | O28: 1/2 Manutención | P28: =IF(#REF!=$AF$2,20.89,IF(#REF!=$AF$1,23.67,"")) -> #REF! | Q28: Manutención pernoctando | R28: =IF(#REF!=$AF$2,41.78,IF(#REF!=$AF$1,53.34,"")) -> #REF! | S28: Manutención sin pernoctar | T28: 26.67 | U28: =IF($AG$2<$AH$1,$AF$2,IF($AG$2>$AH$1,$AF$1,"")) -> Instrucción 3/2025, de 23/06 de la Gerencia de la US | W28: =IF(#REF!=$AF$2,120,IF(#REF!=$AF$1,150,"")) -> #REF! | X28: 50 | Y28: 65 | AA28: PID 2022 (Madrid/Barcelona) | AB28: PDC 2025 (Excepto Madrid/Barcelona) | AC28: 50 | AD28: 65 | AI28: BURKINA FASO | AJ28: RESTO DEL MUNDO | AO28: EGIPTO | AP28: BULGARIA | AQ28: FINLANDIA | AR28: EUROPA | AS28: 84
A29: EL SALVADOR | B29: 70.7 | C29: 46.27 | D29: EL SALVADOR | E29: 66.11 | F29: 43.27 | G29: =F29/2 -> 21.64 | H29: Egipto | I29: 106.98 | J29: 50.49 | K29: =J29/2 -> 25.25 | M29: 30 | N29: PID 2024 (Excepto Madrid/Barcelona) | O29: 1/2 Manutención | P29: =IF(#REF!=$AF$2,20.41,IF(#REF!=$AF$1,23.67,"")) -> #REF! | Q29: Manutención pernoctando | R29: =IF(#REF!=$AF$2,40.82,IF(#REF!=$AF$1,53.34,"")) -> #REF! | S29: Manutención sin pernoctar | T29: 26.67 | U29: =IF($AG$2<$AH$1,$AF$2,IF($AG$2>$AH$1,$AF$1,"")) -> Instrucción 3/2025, de 23/06 de la Gerencia de la US | W29: =IF(#REF!=$AF$2,90,IF(#REF!=$AF$1,130,"")) -> #REF! | X29: 50 | Y29: 65 | AA29: PID 2023 (Excepto Madrid/Barcelona) | AB29: PDC 2025 (Madrid/Barcelona) | AC29: 50 | AD29: 65 | AI29: BURUNDI | AJ29: RESTO DEL MUNDO | AO29: EL SALVADOR | AP29: BURKINA FASO | AQ29: FRANCIA | AR29: EUROPA | AS29: 85.23
A30: EMIRATOS ARABES | B30: 108.62 | C30: 60.42 | D30: EMIRATOS ARABES | E30: 101.57 | F30: 56.5 | G30: =F30/2 -> 28.25 | H30: El Salvador | I30: 77.53 | J30: 50.49 | K30: =J30/2 -> 25.25 | M30: 35 | N30: PID 2024 (Madrid/Barcelona) | O30: 1/2 Manutención | P30: =IF(#REF!=$AF$2,20.89,IF(#REF!=$AF$1,23.67,"")) -> #REF! | Q30: Manutención pernoctando | R30: =IF(#REF!=$AF$2,41.78,IF(#REF!=$AF$1,53.34,"")) -> #REF! | S30: Manutención sin pernoctar | T30: 26.67 | U30: =IF($AG$2<$AH$1,$AF$2,IF($AG$2>$AH$1,$AF$1,"")) -> Instrucción 3/2025, de 23/06 de la Gerencia de la US | W30: =IF(#REF!=$AF$2,120,IF(#REF!=$AF$1,150,"")) -> #REF! | AA30: PID 2023 (Madrid/Barcelona) | AB30: CNS 2022 (Excepto Madrid/Barcelona) | AC30: 50 | AD30: 65 | AI30: BUTAN | AJ30: RESTO DEL MUNDO | AO30: EMIRATOS ARABES | AP30: BURUNDI | AQ30: GRECIA | AR30: EUROPA | AS30: 72.43
A31: ESLOVAQUIA | B31: 80.99 | C31: 46.27 | D31: ESLOVAQUIA | E31: 75.73 | F31: 43.27 | G31: =F31/2 -> 21.64 | H31: Emiratos Arabes Unidos | I31: 119 | J31: 63.71 | K31: =J31/2 -> 31.86 | M31: 35 | N31: PLEC 2021 (MINISTERIO) | O31: 1/2 Manutención | P31: 18.7 | Q31: Manutención completa | R31: 37.4 | S31: * | T31: . | U31: R.D. 462/2002 de 24 DE MAYO | W31: 65.97 | AA31: PID 2024 (Excepto Madrid/Barcelona) | AB31: CNS 2022 (Madrid/Barcelona) | AC31: 50 | AD31: 65 | AI31: CABO VERDE | AJ31: RESTO DEL MUNDO | AO31: ESLOVAQUIA | AP31: BUTAN | AQ31: HUNGRIA | AR31: EUROPA | AS31: 81
A32: ESTADOS UNIDOS | B32: 152.97 | C32: 74.56 | D32: ESTADOS UNIDOS | E32: 143.04 | F32: 69.72 | G32: =F32/2 -> 34.86 | H32: Eslovaquia | I32: 88.95 | J32: 49.88 | K32: =J32/2 -> 24.94 | M32: 35 | N32: PLEC 2022 (MINISTERIO) | O32: 1/2 Manutención | P32: 18.7 | Q32: Manutención completa | R32: 37.4 | S32: * | T32: . | U32: R.D. 462/2002 de 24 DE MAYO | W32: 65.97 | AA32: PID 2024 (Madrid/Barcelona) | AI32: CAMBOYA | AJ32: RESTO DEL MUNDO | AO32: ESTADOS UNIDOS | AP32: CABO VERDE | AQ32: INDIA | AR32: ASIA | AS32: 77.33
A33: ETIOPIA | B33: 127.9 | C33: 40.49 | D33: ETIOPIA | E33: 119.6 | F33: 37.86 | G33: =F33/2 -> 18.93 | H33: Estados Unidos | I33: 168.28 | J33: 77.53 | K33: =J33/2 -> 38.77 | M33: 35 | N33: PLEC 2023 (Excepto Madrid/Barcelona) | O33: 1/2 Manutención | P33: =IF(#REF!=$AF$2,20.41,IF(#REF!=$AF$1,23.67,"")) -> #REF! | Q33: Manutención pernoctando | R33: =IF(#REF!=$AF$2,40.82,IF(#REF!=$AF$1,53.34,"")) -> #REF! | S33: Manutención sin pernoctar | T33: 26.67 | U33: =IF($AG$2<$AH$1,$AF$2,IF($AG$2>$AH$1,$AF$1,"")) -> Instrucción 3/2025, de 23/06 de la Gerencia de la US | W33: =IF(#REF!=$AF$2,90,IF(#REF!=$AF$1,130,"")) -> #REF! | Z33: * | AA33: PLEC 2021 (MINISTERIO) | AI33: CAMERUN | AJ33: CAMERÚN | AO33: ETIOPIA | AP33: CAMBOYA | AQ33: IRAN | AR33: ASIA | AS33: 81.77
A34: FILIPINAS | B34: 76.48 | C34: 42.42 | D34: FILIPINAS | E34: 71.52 | F34: 39.67 | G34: =F34/2 -> 19.84 | H34: Etiopia | I34: 140.04 | J34: 43.87 | K34: =J34/2 -> 21.94 | M34: 35 | N34: PLEC 2023 (Madrid/Barcelona) | O34: 1/2 Manutención | P34: =IF(#REF!=$AF$2,20.89,IF(#REF!=$AF$1,23.67,"")) -> #REF! | Q34: Manutención pernoctando | R34: =IF(#REF!=$AF$2,41.78,IF(#REF!=$AF$1,53.34,"")) -> #REF! | S34: Manutención sin pernoctar | T34: 26.67 | U34: =IF($AG$2<$AH$1,$AF$2,IF($AG$2>$AH$1,$AF$1,"")) -> Instrucción 3/2025, de 23/06 de la Gerencia de la US | W34: =IF(#REF!=$AF$2,120,IF(#REF!=$AF$1,150,"")) -> #REF! | Z34: * | AA34: PLEC 2022 (MINISTERIO) | AI34: CANADA | AJ34: CANADÁ | AO34: FILIPINAS | AP34: CAMERUN | AQ34: IRLANDA | AR34: EUROPA | AS34: 77.73
A35: FINLANDIA | B35: 122.76 | C35: 70.06 | D35: FINLANDIA | E35: 114.79 | F35: 65.51 | G35: =F35/2 -> 32.76 | H35: Filipinas | I35: 84.14 | J35: 45.08 | K35: =J35/2 -> 22.54 | M35: 35 | N35: PLEC 2024 (Excepto Madrid/Barcelona) | O35: 1/2 Manutención | P35: =IF(#REF!=$AF$2,20.41,IF(#REF!=$AF$1,23.67,"")) -> #REF! | Q35: Manutención pernoctando | R35: =IF(#REF!=$AF$2,40.82,IF(#REF!=$AF$1,53.34,"")) -> #REF! | S35: Manutención sin pernoctar | T35: 26.67 | U35: =IF($AG$2<$AH$1,$AF$2,IF($AG$2>$AH$1,$AF$1,"")) -> Instrucción 3/2025, de 23/06 de la Gerencia de la US | W35: =IF(#REF!=$AF$2,90,IF(#REF!=$AF$1,130,"")) -> #REF! | Z35: * | AA35: PLEC 2023 (Excepto Madrid/Barcelona) | AI35: CHAD | AJ35: RESTO DEL MUNDO | AO35: FINLANDIA | AP35: CANADA | AQ35: ISRAEL | AR35: ASIA | AS35: 78.97
A36: FRANCIA | B36: 131.12 | C36: 70.06 | D36: FRANCIA | E36: 122.61 | F36: 65.51 | G36: =F36/2 -> 32.76 | H36: Finlandia | I36: 134.63 | J36: 72.72 | K36: =J36/2 -> 36.36 | M36: 35 | N36: PLEC 2024 (Madrid/Barcelona) | O36: 1/2 Manutención | P36: =IF(#REF!=$AF$2,20.89,IF(#REF!=$AF$1,23.67,"")) -> #REF! | Q36: Manutención completa | R36: =IF(#REF!=$AF$2,41.78,IF(#REF!=$AF$1,53.34,"")) -> #REF! | S36: Manutención sin pernoctar | T36: 26.67 | U36: =IF($AG$2<$AH$1,$AF$2,IF($AG$2>$AH$1,$AF$1,"")) -> Instrucción 3/2025, de 23/06 de la Gerencia de la US | W36: =IF(#REF!=$AF$2,120,IF(#REF!=$AF$1,150,"")) -> #REF! | Z36: * | AA36: PLEC 2023 (Madrid/Barcelona) | AI36: CHILE | AJ36: CHILE | AO36: FRANCIA | AP36: CHAD | AQ36: ISLANDIA | AR36: EUROPA | AS36: 77.73
A37: GABON | B37: 107.34 | C37: 56.56 | D37: GABON | E37: 100.37 | F37: 52.89 | G37: =F37/2 -> 26.45 | H37: Francia | I37: 144.24 | J37: 72.72 | K37: =J37/2 -> 36.36 | M37: 35 | N37: RAMON Y CAJAL 2022 (Excepto Madrid/Barcelona) | O37: 1/2 Manutención | P37: =IF(#REF!=$AF$2,20.41,IF(#REF!=$AF$1,23.67,"")) -> #REF! | Q37: Manutención completa | R37: =IF(#REF!=$AF$2,40.82,IF(#REF!=$AF$1,53.34,"")) -> #REF! | S37: Manutención sin pernoctar | T37: 26.67 | U37: =IF($AG$2<$AH$1,$AF$2,IF($AG$2>$AH$1,$AF$1,"")) -> Instrucción 3/2025, de 23/06 de la Gerencia de la US | W37: =IF(#REF!=$AF$2,90,IF(#REF!=$AF$1,130,"")) -> #REF! | Z37: * | AA37: PLEC 2024 (Excepto Madrid/Barcelona) | AI37: CHINA | AJ37: CHINA | AO37: GEBON | AP37: CHILE | AQ37: ITALIA | AR37: EUROPA | AS37: 86.2
A38: GHANA | B38: 71.34 | C38: 39.85 | D38: GHANA | E38: 66.71 | F38: 37.26 | G38: =F38/2 -> 18.63 | H38: Gabon | I38: 117.8 | J38: 59.5 | K38: =J38/2 -> 29.75 | M38: 35 | N38: RAMON Y CAJAL 2022 (Madrid/Barcelona) | O38: 1/2 Manutención | P38: =IF(#REF!=$AF$2,20.89,IF(#REF!=$AF$1,23.67,"")) -> #REF! | Q38: Manutención completa | R38: =IF(#REF!=$AF$2,41.78,IF(#REF!=$AF$1,53.34,"")) -> #REF! | S38: Manutención sin pernoctar | T38: 26.67 | U38: =IF($AG$2<$AH$1,$AF$2,IF($AG$2>$AH$1,$AF$1,"")) -> Instrucción 3/2025, de 23/06 de la Gerencia de la US | W38: =IF(#REF!=$AF$2,120,IF(#REF!=$AF$1,150,"")) -> #REF! | Z38: * | AA38: PLEC 2024 (Madrid/Barcelona) | AI38: CHIPRE | AJ38: RESTO DEL MUNDO | AO38: GHENA | AP38: CHINA | AQ38: JAPON | AR38: ASIA | AS38: 96.2
A39: GRECIA | B39: 73.92 | C39: 41.78 | D39: GRECIA | E39: 69.12 | F39: 39.07 | G39: =F39/2 -> 19.54 | H39: Ghana | I39: 78.13 | J39: 42.67 | K39: =J39/2 -> 21.34 | N39: RAMON Y CAJAL 2023 (Excepto Madrid/Barcelona) | O39: 1/2 Manutención | P39: =IF(#REF!=$AF$2,20.41,IF(#REF!=$AF$1,23.67,"")) -> #REF! | Q39: Manutención pernoctando | R39: =IF(#REF!=$AF$2,40.82,IF(#REF!=$AF$1,53.34,"")) -> #REF! | S39: Manutención sin pernoctar | T39: 26.67 | U39: =IF($AG$2<$AH$1,$AF$2,IF($AG$2>$AH$1,$AF$1,"")) -> Instrucción 3/2025, de 23/06 de la Gerencia de la US | W39: =IF(#REF!=$AF$2,90,IF(#REF!=$AF$1,130,"")) -> #REF! | Z39: * | AA39: RAMON Y CAJAL 2022 (Excepto Madrid/Barcelona) | AI39: COLOMBIA | AJ39: COLOMBIA | AO39: GRECIA | AP39: CHIPRE | AQ39: LETONIA | AR39: EUROPA | AS39: 74.17
A40: GUATEMALA | B40: 95.76 | C40: 45.63 | D40: GUATEMALA | E40: 89.55 | F40: 42.67 | G40: =F40/2 -> 21.34 | H40: Grecia | I40: 81.14 | J40: 45.08 | K40: =J40/2 -> 22.54 | N40: RAMON Y CAJAL 2023 (Madrid/Barcelona) | O40: 1/2 Manutención | P40: =IF(#REF!=$AF$2,20.89,IF(#REF!=$AF$1,23.67,"")) -> #REF! | Q40: Manutención pernoctando | R40: =IF(#REF!=$AF$2,41.78,IF(#REF!=$AF$1,53.34,"")) -> #REF! | S40: Manutención sin pernoctar | T40: 26.67 | U40: =IF($AG$2<$AH$1,$AF$2,IF($AG$2>$AH$1,$AF$1,"")) -> Instrucción 3/2025, de 23/06 de la Gerencia de la US | W40: =IF(#REF!=$AF$2,120,IF(#REF!=$AF$1,150,"")) -> #REF! | Z40: * | AA40: RAMON Y CAJAL 2022 (Madrid/Barcelona) | AI40: CONGO | AJ40: RESTO DEL MUNDO | AO40: GUATEMALA | AP40: COLOMBIA | AQ40: LITUANIA | AR40: EUROPA | AS40: 74.17
...

Sheet LIQUIDACIÓN-GASTOS
A1: VARIOS DIAS | B1: =FORMULARIO!F54 -> 0 | C1: =FORMULARIO!F57 -> 0 | E1: =AF2 | J1: Instrucción 3/2025, de 23/06 de la Gerencia de la US | O1: 0.58402778 | P1: 0.62569444 | AL1: =INICIO!M1 -> V24 | AM1: =INICIO!N1 -> 46288
A2: ESPAÑA IDA | B2: =IF(OR(FORMULARIO!C54="",FORMULARIO!C57=""),"",(FORMULARIO!C57-FORMULARIO!C54)+1) | E2: Junta y US | F2: =FORMULARIO!G53 | I2: =FORMULARIO!G54 -> Elija la Opción ▼ | J2: Instrucción 3/2021, de 22 de diciembre de la Gerencia de la US | AF2: =IFERROR(VLOOKUP(AI6,ANEXO!N2:U62,8,0),"")
A3: SALIDA | B3: <14:00 | C3: =IF(E1=J1,O1,O3) -> 0.58333333 | E3: Manutención pernoctando | F3: =IF(AND(OR(E1=J1,E1=J3,E1=J6),B2>1,B1<C3),E3,"") | H3: =IF(B2="",0,IF(F3<>"","1",0)) -> 0 | J3: DECRETO DE DIETAS 54/1989 | O3: 0.58333333 | P3: 0.625
B4: >=14:00 Y <22:00 | C4: =IF(E1=J1,O1,O3) -> 0.58333333 | D4: 0.91666667 | E4: 1/2 Manutención | F4: =IF(AND(OR(E1=J1,E1=J3,E1=J6),B2>1,B1>=C3,B1<D4),E4,"") | H4: =IF(B2="",0,IF(F4<>"","1",0)) -> 0 | J4: R.D. 462/2002 de 24 DE MAYO | AD4: =IF(OR(FORMULARIO!B3<>"",FORMULARIO!B4<>"",FORMULARIO!B5<>"",FORMULARIO!B6<>"",FORMULARIO!F9<>"",FORMULARIO!B8<>""),"La liquidación presenta errores, por favor, revise el formulario y el cuadro de aviso para verificar los datos pendientes de completar","Esta Liquidación deberá justificar TODOS los gastos relacionados con el viaje y adjuntar la Comisión de Servicio Original.") -> La liquidación presenta errores, por favor, revise el formulario y el cuadro de aviso para verificar los datos pendientes de completar
B5: >22:00 | C5: 0.91666667 | D5: 1 | E5: No corresponde manutención | F5: =IF(AND(OR(E1=J1,E1=J3,E1=J6),B2>1,B1>C5),E5,"") | J5: NUEVO DECRETO JUNTA
